BEGIN:VCALENDAR
VERSION:2.0
PRODID:-//horsealert.local//NONSGML kigkonsult.se iCalcreator 2.10.5//
CALSCALE:GREGORIAN
X-WR-TIMEZONE:Europe/Dublin
BEGIN:VTIMEZONE
TZID:Etc/GMT-1
BEGIN:STANDARD
DTSTART:20010101T000000
TZOFFSETFROM:+0100
TZOFFSETTO:+0100
TZNAME:GMT +01:00
END:STANDARD
END:VTIMEZONE
BEGIN:VEVENT
UID:20260424T064319CEST-4083L9mHFP@horsealert.local
DTSTAMP:20260424T040419Z
CATEGORIES:Horse Alerts
DESCRIPTION:ETS \(UK\) Ltd Anniversary Nursery
DTSTART:20140920T144500
LOCATION:England
SUMMARY:Horse Racing:ETS \(UK\) Ltd Anniversary Nursery
END:VEVENT
END:VCALENDAR
