BEGIN:VCALENDAR
VERSION:2.0
PRODID:-//horsealert.local//NONSGML kigkonsult.se iCalcreator 2.10.5//
CALSCALE:GREGORIAN
X-WR-TIMEZONE:Europe/Dublin
BEGIN:VTIMEZONE
TZID:Etc/GMT-1
BEGIN:STANDARD
DTSTART:20010101T000000
TZOFFSETFROM:+0100
TZOFFSETTO:+0100
TZNAME:GMT +01:00
END:STANDARD
END:VTIMEZONE
BEGIN:VEVENT
UID:20260424T064944CEST-0161HCmvSr@horsealert.local
DTSTAMP:20260424T040444Z
CATEGORIES:Horse Alerts
DESCRIPTION:Book Your 20th October totepool Package Handicap \(Round 6 Of P
 ontefract Stayers Championship 2014\)
DTSTART:20140918T163000
LOCATION:England
SUMMARY:Horse Racing:Book Your 20th October totepool Package Handicap \(Rou
 nd 6 Of Pontefract Stayers Championship 2014\)
END:VEVENT
END:VCALENDAR
