BEGIN:VCALENDAR
VERSION:2.0
PRODID:-//horsealert.local//NONSGML kigkonsult.se iCalcreator 2.10.5//
CALSCALE:GREGORIAN
X-WR-TIMEZONE:Europe/Dublin
BEGIN:VTIMEZONE
TZID:Etc/GMT-1
BEGIN:STANDARD
DTSTART:20010101T000000
TZOFFSETFROM:+0100
TZOFFSETTO:+0100
TZNAME:GMT +01:00
END:STANDARD
END:VTIMEZONE
BEGIN:VEVENT
UID:20260424T064846CEST-1373dmK0CF@horsealert.local
DTSTAMP:20260424T040446Z
CATEGORIES:Horse Alerts
DESCRIPTION:Lamont Racing Congratulations Jason Hart Handicap Hurdle
DTSTART:20140917T183500
LOCATION:Scotland
SUMMARY:Horse Racing:Lamont Racing Congratulations Jason Hart Handicap Hurd
 le
END:VEVENT
END:VCALENDAR
