BEGIN:VCALENDAR
VERSION:2.0
PRODID:-//horsealert.local//NONSGML kigkonsult.se iCalcreator 2.10.5//
CALSCALE:GREGORIAN
X-WR-TIMEZONE:Europe/Dublin
BEGIN:VTIMEZONE
TZID:Etc/GMT-1
BEGIN:STANDARD
DTSTART:20010101T000000
TZOFFSETFROM:+0100
TZOFFSETTO:+0100
TZNAME:GMT +01:00
END:STANDARD
END:VTIMEZONE
BEGIN:VEVENT
UID:20260424T112659CEST-494757S68W@horsealert.local
DTSTAMP:20260424T090459Z
CATEGORIES:Horse Alerts
DESCRIPTION:Bet totetrifecta Apprentice Training Series Classified Stakes \
 (Part Of The Racing Excellence Initiative\)
DTSTART:20140917T175500
LOCATION:England
SUMMARY:Horse Racing:Bet totetrifecta Apprentice Training Series Classified
  Stakes \(Part Of The Racing Excellence Initiative\)
END:VEVENT
END:VCALENDAR
