BEGIN:VCALENDAR
VERSION:2.0
PRODID:-//horsealert.local//NONSGML kigkonsult.se iCalcreator 2.10.5//
CALSCALE:GREGORIAN
X-WR-TIMEZONE:Europe/Dublin
BEGIN:VTIMEZONE
TZID:Etc/GMT-1
BEGIN:STANDARD
DTSTART:20010101T000000
TZOFFSETFROM:+0100
TZOFFSETTO:+0100
TZNAME:GMT +01:00
END:STANDARD
END:VTIMEZONE
BEGIN:VEVENT
UID:20260424T131006CEST-3731g3UM3l@horsealert.local
DTSTAMP:20260424T110406Z
CATEGORIES:Horse Alerts
DESCRIPTION:EBF At The Races John Musker Fillies\' Stakes \(For The John Mu
 sker Trophy\) \(Listed\)
DTSTART:20140917T152500
LOCATION:England
SUMMARY:Horse Racing:EBF At The Races John Musker Fillies\' Stakes \(For Th
 e John Musker Trophy\) \(Listed\)
END:VEVENT
END:VCALENDAR
