BEGIN:VCALENDAR
VERSION:2.0
PRODID:-//horsealert.local//NONSGML kigkonsult.se iCalcreator 2.10.5//
CALSCALE:GREGORIAN
X-WR-TIMEZONE:Europe/Dublin
BEGIN:VTIMEZONE
TZID:Etc/GMT-1
BEGIN:STANDARD
DTSTART:20010101T000000
TZOFFSETFROM:+0100
TZOFFSETTO:+0100
TZNAME:GMT +01:00
END:STANDARD
END:VTIMEZONE
BEGIN:VEVENT
UID:20260424T065016CEST-4789HBurnd@horsealert.local
DTSTAMP:20260424T040416Z
CATEGORIES:Horse Alerts
DESCRIPTION:Amco Engineering Novices\' Handicap Chase
DTSTART:20140916T173500
LOCATION:England
SUMMARY:Horse Racing:Amco Engineering Novices\' Handicap Chase
END:VEVENT
END:VCALENDAR
