BEGIN:VCALENDAR
VERSION:2.0
PRODID:-//horsealert.local//NONSGML kigkonsult.se iCalcreator 2.10.5//
CALSCALE:GREGORIAN
X-WR-TIMEZONE:Europe/Dublin
BEGIN:VTIMEZONE
TZID:Etc/GMT-1
BEGIN:STANDARD
DTSTART:20010101T000000
TZOFFSETFROM:+0100
TZOFFSETTO:+0100
TZNAME:GMT +01:00
END:STANDARD
END:VTIMEZONE
BEGIN:VEVENT
UID:20260424T064709CEST-3159VRlW9T@horsealert.local
DTSTAMP:20260424T040409Z
CATEGORIES:Horse Alerts
DESCRIPTION:MUSSELBURGH - Charity Race - Ladbrokes Referendum Race
DTSTART:20140915T134000
LOCATION:England
SUMMARY:Horse Racing:MUSSELBURGH - Charity Race - Ladbrokes Referendum Race
END:VEVENT
END:VCALENDAR
