BEGIN:VCALENDAR
VERSION:2.0
PRODID:-//horsealert.local//NONSGML kigkonsult.se iCalcreator 2.10.5//
CALSCALE:GREGORIAN
X-WR-TIMEZONE:Europe/Dublin
BEGIN:VTIMEZONE
TZID:Etc/GMT-1
BEGIN:STANDARD
DTSTART:20010101T000000
TZOFFSETFROM:+0100
TZOFFSETTO:+0100
TZNAME:GMT +01:00
END:STANDARD
END:VTIMEZONE
BEGIN:VEVENT
UID:20260424T064722CEST-7468pWGKTn@horsealert.local
DTSTAMP:20260424T040422Z
CATEGORIES:Horse Alerts
DESCRIPTION:Bank Of Ireland Maiden Hurdle
DTSTART:20140915T173500
LOCATION:Eire
SUMMARY:Horse Racing:Bank Of Ireland Maiden Hurdle
END:VEVENT
END:VCALENDAR
