BEGIN:VCALENDAR
VERSION:2.0
PRODID:-//horsealert.local//NONSGML kigkonsult.se iCalcreator 2.10.5//
CALSCALE:GREGORIAN
X-WR-TIMEZONE:Europe/Dublin
BEGIN:VTIMEZONE
TZID:Etc/GMT-1
BEGIN:STANDARD
DTSTART:20010101T000000
TZOFFSETFROM:+0100
TZOFFSETTO:+0100
TZNAME:GMT +01:00
END:STANDARD
END:VTIMEZONE
BEGIN:VEVENT
UID:20260424T064808CEST-1122g2V6Kv@horsealert.local
DTSTAMP:20260424T040408Z
CATEGORIES:Horse Alerts
DESCRIPTION:Best In Handicap \(Qualifier For The 15000 Betfair Scottish Sta
 yers\' Series Final\)
DTSTART:20140915T154000
LOCATION:Scotland
SUMMARY:Horse Racing:Best In Handicap \(Qualifier For The 15000 Betfair Sco
 ttish Stayers\' Series Final\)
END:VEVENT
END:VCALENDAR
