BEGIN:VCALENDAR
VERSION:2.0
PRODID:-//horsealert.local//NONSGML kigkonsult.se iCalcreator 2.10.5//
CALSCALE:GREGORIAN
X-WR-TIMEZONE:Europe/Dublin
BEGIN:VTIMEZONE
TZID:Etc/GMT-1
BEGIN:STANDARD
DTSTART:20010101T000000
TZOFFSETFROM:+0100
TZOFFSETTO:+0100
TZNAME:GMT +01:00
END:STANDARD
END:VTIMEZONE
BEGIN:VEVENT
UID:20260424T064607CEST-4215U9iVah@horsealert.local
DTSTAMP:20260424T040407Z
CATEGORIES:Horse Alerts
DESCRIPTION:Charles Hurst Premium Handicap \(47-65\)
DTSTART:20140912T180500
LOCATION:Northern Ireland
SUMMARY:Horse Racing:Charles Hurst Premium Handicap \(47-65\)
END:VEVENT
END:VCALENDAR
