BEGIN:VCALENDAR
VERSION:2.0
PRODID:-//horsealert.local//NONSGML kigkonsult.se iCalcreator 2.10.5//
CALSCALE:GREGORIAN
X-WR-TIMEZONE:Europe/Dublin
BEGIN:VTIMEZONE
TZID:Etc/GMT-1
BEGIN:STANDARD
DTSTART:20010101T000000
TZOFFSETFROM:+0100
TZOFFSETTO:+0100
TZNAME:GMT +01:00
END:STANDARD
END:VTIMEZONE
BEGIN:VEVENT
UID:20260424T095057CEST-1523Ol0vfl@horsealert.local
DTSTAMP:20260424T070457Z
CATEGORIES:Horse Alerts
DESCRIPTION:Japan Racing Association Sceptre Stakes \(Fillies\' Group 3\)
DTSTART:20140911T141000
LOCATION:England
SUMMARY:Horse Racing:Japan Racing Association Sceptre Stakes \(Fillies\' Gr
 oup 3\)
END:VEVENT
END:VCALENDAR
