BEGIN:VCALENDAR
VERSION:2.0
PRODID:-//horsealert.local//NONSGML kigkonsult.se iCalcreator 2.10.5//
CALSCALE:GREGORIAN
X-WR-TIMEZONE:Europe/Dublin
BEGIN:VTIMEZONE
TZID:Etc/GMT-1
BEGIN:STANDARD
DTSTART:20010101T000000
TZOFFSETFROM:+0100
TZOFFSETTO:+0100
TZNAME:GMT +01:00
END:STANDARD
END:VTIMEZONE
BEGIN:VEVENT
UID:20260424T064234CEST-4083neOsGh@horsealert.local
DTSTAMP:20260424T040434Z
CATEGORIES:Horse Alerts
DESCRIPTION:Hogmanay Party At Perth Racecourse Novices\' Hurdle \(Betfair S
 cottish Hurdle Series Qualifier\)
DTSTART:20140909T162500
LOCATION:Scotland
SUMMARY:Horse Racing:Hogmanay Party At Perth Racecourse Novices\' Hurdle \(
 Betfair Scottish Hurdle Series Qualifier\)
END:VEVENT
END:VCALENDAR
