BEGIN:VCALENDAR
VERSION:2.0
PRODID:-//horsealert.local//NONSGML kigkonsult.se iCalcreator 2.10.5//
CALSCALE:GREGORIAN
X-WR-TIMEZONE:Europe/Dublin
BEGIN:VTIMEZONE
TZID:Etc/GMT-1
BEGIN:STANDARD
DTSTART:20010101T000000
TZOFFSETFROM:+0100
TZOFFSETTO:+0100
TZNAME:GMT +01:00
END:STANDARD
END:VTIMEZONE
BEGIN:VEVENT
UID:20260424T064332CEST-4351KTvE8z@horsealert.local
DTSTAMP:20260424T040432Z
CATEGORIES:Horse Alerts
DESCRIPTION:Great Christmas Parties At Worcester Racecourse \'Hands And Hee
 ls\' Handicap Chase \(Conditional/Amateur\)
DTSTART:20140909T144000
LOCATION:England
SUMMARY:Horse Racing:Great Christmas Parties At Worcester Racecourse \'Hand
 s And Heels\' Handicap Chase \(Conditional/Amateur\)
END:VEVENT
END:VCALENDAR
