BEGIN:VCALENDAR
VERSION:2.0
PRODID:-//horsealert.local//NONSGML kigkonsult.se iCalcreator 2.10.5//
CALSCALE:GREGORIAN
X-WR-TIMEZONE:Europe/Dublin
BEGIN:VTIMEZONE
TZID:Etc/GMT-1
BEGIN:STANDARD
DTSTART:20010101T000000
TZOFFSETFROM:+0100
TZOFFSETTO:+0100
TZNAME:GMT +01:00
END:STANDARD
END:VTIMEZONE
BEGIN:VEVENT
UID:20260424T064340CEST-5425m5jUrd@horsealert.local
DTSTAMP:20260424T040440Z
CATEGORIES:Horse Alerts
DESCRIPTION:Scottish Food And Drink Day Novices\' Hurdle \(Betfair Scottish
  Hurdle Series Qualifier\)
DTSTART:20140908T142000
LOCATION:Scotland
SUMMARY:Horse Racing:Scottish Food And Drink Day Novices\' Hurdle \(Betfair
  Scottish Hurdle Series Qualifier\)
END:VEVENT
END:VCALENDAR
