BEGIN:VCALENDAR
VERSION:2.0
PRODID:-//horsealert.local//NONSGML kigkonsult.se iCalcreator 2.10.5//
CALSCALE:GREGORIAN
X-WR-TIMEZONE:Europe/Dublin
BEGIN:VTIMEZONE
TZID:Etc/GMT-1
BEGIN:STANDARD
DTSTART:20010101T000000
TZOFFSETFROM:+0100
TZOFFSETTO:+0100
TZNAME:GMT +01:00
END:STANDARD
END:VTIMEZONE
BEGIN:VEVENT
UID:20260424T095150CEST-3919JfvIl4@horsealert.local
DTSTAMP:20260424T070450Z
CATEGORIES:Horse Alerts
DESCRIPTION:Coopers Marquees Apprentice Handicap \(A Leg Of The Go Racing I
 n Yorkshire Future Stars Series\)
DTSTART:20140907T171000
LOCATION:England
SUMMARY:Horse Racing:Coopers Marquees Apprentice Handicap \(A Leg Of The Go
  Racing In Yorkshire Future Stars Series\)
END:VEVENT
END:VCALENDAR
