BEGIN:VCALENDAR
VERSION:2.0
PRODID:-//horsealert.local//NONSGML kigkonsult.se iCalcreator 2.10.5//
CALSCALE:GREGORIAN
X-WR-TIMEZONE:Europe/Dublin
BEGIN:VTIMEZONE
TZID:Etc/GMT-1
BEGIN:STANDARD
DTSTART:20010101T000000
TZOFFSETFROM:+0100
TZOFFSETTO:+0100
TZNAME:GMT +01:00
END:STANDARD
END:VTIMEZONE
BEGIN:VEVENT
UID:20260424T095135CEST-7921UP7ebG@horsealert.local
DTSTAMP:20260424T070435Z
CATEGORIES:Horse Alerts
DESCRIPTION:Regis Removals Supporting \'Love Your Hospital\' Novices\' Hurd
 le
DTSTART:20140907T151000
LOCATION:England
SUMMARY:Horse Racing:Regis Removals Supporting \'Love Your Hospital\' Novic
 es\' Hurdle
END:VEVENT
END:VCALENDAR
