BEGIN:VCALENDAR
VERSION:2.0
PRODID:-//horsealert.local//NONSGML kigkonsult.se iCalcreator 2.10.5//
CALSCALE:GREGORIAN
X-WR-TIMEZONE:Europe/Dublin
BEGIN:VTIMEZONE
TZID:Etc/GMT-1
BEGIN:STANDARD
DTSTART:20010101T000000
TZOFFSETFROM:+0100
TZOFFSETTO:+0100
TZNAME:GMT +01:00
END:STANDARD
END:VTIMEZONE
BEGIN:VEVENT
UID:20260424T064256CEST-0383KI3ZgS@horsealert.local
DTSTAMP:20260424T040456Z
CATEGORIES:Horse Alerts
DESCRIPTION:Tile Choice Bilston Cannock & Walsall Handicap
DTSTART:20140906T174500
LOCATION:England
SUMMARY:Horse Racing:Tile Choice Bilston Cannock & Walsall Handicap
END:VEVENT
END:VCALENDAR
