BEGIN:VCALENDAR
VERSION:2.0
PRODID:-//horsealert.local//NONSGML kigkonsult.se iCalcreator 2.10.5//
CALSCALE:GREGORIAN
X-WR-TIMEZONE:Europe/Dublin
BEGIN:VTIMEZONE
TZID:Etc/GMT-1
BEGIN:STANDARD
DTSTART:20010101T000000
TZOFFSETFROM:+0100
TZOFFSETTO:+0100
TZNAME:GMT +01:00
END:STANDARD
END:VTIMEZONE
BEGIN:VEVENT
UID:20260424T064348CEST-1017uVB7x0@horsealert.local
DTSTAMP:20260424T040448Z
CATEGORIES:Horse Alerts
DESCRIPTION:totepool Play Today\'s 3.5 Million Scoop6 Conditions Stakes
DTSTART:20140906T134500
LOCATION:England
SUMMARY:Horse Racing:totepool Play Today\'s 3.5 Million Scoop6 Conditions S
 takes
END:VEVENT
END:VCALENDAR
