BEGIN:VCALENDAR
VERSION:2.0
PRODID:-//horsealert.local//NONSGML kigkonsult.se iCalcreator 2.10.5//
CALSCALE:GREGORIAN
X-WR-TIMEZONE:Europe/Dublin
BEGIN:VTIMEZONE
TZID:Etc/GMT-1
BEGIN:STANDARD
DTSTART:20010101T000000
TZOFFSETFROM:+0100
TZOFFSETTO:+0100
TZNAME:GMT +01:00
END:STANDARD
END:VTIMEZONE
BEGIN:VEVENT
UID:20260424T064323CEST-57342cjdIc@horsealert.local
DTSTAMP:20260424T040423Z
CATEGORIES:Horse Alerts
DESCRIPTION:My Mate Nigel Vaulkhard Conditional Jockeys\' Novices\' Hurdle 
 \(Betfred Hurdle Series Qualifier\)
DTSTART:20140904T145000
LOCATION:England
SUMMARY:Horse Racing:My Mate Nigel Vaulkhard Conditional Jockeys\' Novices\
 ' Hurdle \(Betfred Hurdle Series Qualifier\)
END:VEVENT
END:VCALENDAR
