BEGIN:VCALENDAR
VERSION:2.0
PRODID:-//horsealert.local//NONSGML kigkonsult.se iCalcreator 2.10.5//
CALSCALE:GREGORIAN
X-WR-TIMEZONE:Europe/Dublin
BEGIN:VTIMEZONE
TZID:Etc/GMT-1
BEGIN:STANDARD
DTSTART:20010101T000000
TZOFFSETFROM:+0100
TZOFFSETTO:+0100
TZNAME:GMT +01:00
END:STANDARD
END:VTIMEZONE
BEGIN:VEVENT
UID:20260424T080523CEST-7947kW1jj6@horsealert.local
DTSTAMP:20260424T060423Z
CATEGORIES:Horse Alerts
DESCRIPTION:188Bet Claiming Stakes \(AWT\)
DTSTART:20140903T163500
LOCATION:England
SUMMARY:Horse Racing:188Bet Claiming Stakes \(AWT\)
END:VEVENT
END:VCALENDAR
