BEGIN:VCALENDAR
VERSION:2.0
PRODID:-//horsealert.local//NONSGML kigkonsult.se iCalcreator 2.10.5//
CALSCALE:GREGORIAN
X-WR-TIMEZONE:Europe/Dublin
BEGIN:VTIMEZONE
TZID:Etc/GMT-1
BEGIN:STANDARD
DTSTART:20010101T000000
TZOFFSETFROM:+0100
TZOFFSETTO:+0100
TZNAME:GMT +01:00
END:STANDARD
END:VTIMEZONE
BEGIN:VEVENT
UID:20260424T080506CEST-8529o0HS3B@horsealert.local
DTSTAMP:20260424T060406Z
CATEGORIES:Horse Alerts
DESCRIPTION:Irish Stallion Farms European Breeders Fund Irish Cambridgeshir
 e \(Premier Handicap\)
DTSTART:20140831T163500
LOCATION:Eire
SUMMARY:Horse Racing:Irish Stallion Farms European Breeders Fund Irish Camb
 ridgeshire \(Premier Handicap\)
END:VEVENT
END:VCALENDAR
