BEGIN:VCALENDAR
VERSION:2.0
PRODID:-//horsealert.local//NONSGML kigkonsult.se iCalcreator 2.10.5//
CALSCALE:GREGORIAN
X-WR-TIMEZONE:Europe/Dublin
BEGIN:VTIMEZONE
TZID:Etc/GMT-1
BEGIN:STANDARD
DTSTART:20010101T000000
TZOFFSETFROM:+0100
TZOFFSETTO:+0100
TZNAME:GMT +01:00
END:STANDARD
END:VTIMEZONE
BEGIN:VEVENT
UID:20260424T112721CEST-7328uF9Sc8@horsealert.local
DTSTAMP:20260424T090421Z
CATEGORIES:Horse Alerts
DESCRIPTION:Xtravision & HMV Supporting Irish Autism Action Dance Design Fi
 llies Stakes \(Group 3\)
DTSTART:20140831T153500
LOCATION:Eire
SUMMARY:Horse Racing:Xtravision & HMV Supporting Irish Autism Action Dance 
 Design Fillies Stakes \(Group 3\)
END:VEVENT
END:VCALENDAR
