BEGIN:VCALENDAR
VERSION:2.0
PRODID:-//horsealert.local//NONSGML kigkonsult.se iCalcreator 2.10.5//
CALSCALE:GREGORIAN
X-WR-TIMEZONE:Europe/Dublin
BEGIN:VTIMEZONE
TZID:Etc/GMT-1
BEGIN:STANDARD
DTSTART:20010101T000000
TZOFFSETFROM:+0100
TZOFFSETTO:+0100
TZNAME:GMT +01:00
END:STANDARD
END:VTIMEZONE
BEGIN:VEVENT
UID:20260424T095057CEST-9795twBn4C@horsealert.local
DTSTAMP:20260424T070457Z
CATEGORIES:Horse Alerts
DESCRIPTION:Racing UK On Sky 432 Handicap \(Qualifier For The 15000 Betfair
  Scottish Stayers Series Final\)
DTSTART:20140828T185000
LOCATION:Scotland
SUMMARY:Horse Racing:Racing UK On Sky 432 Handicap \(Qualifier For The 1500
 0 Betfair Scottish Stayers Series Final\)
END:VEVENT
END:VCALENDAR
