BEGIN:VCALENDAR
VERSION:2.0
PRODID:-//horsealert.local//NONSGML kigkonsult.se iCalcreator 2.10.5//
CALSCALE:GREGORIAN
X-WR-TIMEZONE:Europe/Dublin
BEGIN:VTIMEZONE
TZID:Etc/GMT-1
BEGIN:STANDARD
DTSTART:20010101T000000
TZOFFSETFROM:+0100
TZOFFSETTO:+0100
TZNAME:GMT +01:00
END:STANDARD
END:VTIMEZONE
BEGIN:VEVENT
UID:20260424T095056CEST-8749tdA13t@horsealert.local
DTSTAMP:20260424T070456Z
CATEGORIES:Horse Alerts
DESCRIPTION:Bill And David McHarg \'Hands And Heels\' Apprentice Series Han
 dicap \(Round Four Of The Hamilton Park Apprentice Series\)
DTSTART:20140828T175000
LOCATION:Scotland
SUMMARY:Horse Racing:Bill And David McHarg \'Hands And Heels\' Apprentice S
 eries Handicap \(Round Four Of The Hamilton Park Apprentice Series\)
END:VEVENT
END:VCALENDAR
