BEGIN:VCALENDAR
VERSION:2.0
PRODID:-//horsealert.local//NONSGML kigkonsult.se iCalcreator 2.10.5//
CALSCALE:GREGORIAN
X-WR-TIMEZONE:Europe/Dublin
BEGIN:VTIMEZONE
TZID:Etc/GMT-1
BEGIN:STANDARD
DTSTART:20010101T000000
TZOFFSETFROM:+0100
TZOFFSETTO:+0100
TZNAME:GMT +01:00
END:STANDARD
END:VTIMEZONE
BEGIN:VEVENT
UID:20260424T080514CEST-0577jmVe3G@horsealert.local
DTSTAMP:20260424T060414Z
CATEGORIES:Horse Alerts
DESCRIPTION:CKS Tickets \(Q.R.\) Race
DTSTART:20140827T194500
LOCATION:Eire
SUMMARY:Horse Racing:CKS Tickets \(Q.R.\) Race
END:VEVENT
END:VCALENDAR
