BEGIN:VCALENDAR
VERSION:2.0
PRODID:-//horsealert.local//NONSGML kigkonsult.se iCalcreator 2.10.5//
CALSCALE:GREGORIAN
X-WR-TIMEZONE:Europe/Dublin
BEGIN:VTIMEZONE
TZID:Etc/GMT-1
BEGIN:STANDARD
DTSTART:20010101T000000
TZOFFSETFROM:+0100
TZOFFSETTO:+0100
TZNAME:GMT +01:00
END:STANDARD
END:VTIMEZONE
BEGIN:VEVENT
UID:20260424T141151CEST-4495psdzBc@horsealert.local
DTSTAMP:20260424T120451Z
CATEGORIES:Horse Alerts
DESCRIPTION:Kempton Live With Dizzee Rascal 06.09.14 Median Auction Maiden 
 Stakes
DTSTART:20140827T185500
LOCATION:England
SUMMARY:Horse Racing:Kempton Live With Dizzee Rascal 06.09.14 Median Auctio
 n Maiden Stakes
END:VEVENT
END:VCALENDAR
