BEGIN:VCALENDAR
VERSION:2.0
PRODID:-//horsealert.local//NONSGML kigkonsult.se iCalcreator 2.10.5//
CALSCALE:GREGORIAN
X-WR-TIMEZONE:Europe/Dublin
BEGIN:VTIMEZONE
TZID:Etc/GMT-1
BEGIN:STANDARD
DTSTART:20010101T000000
TZOFFSETFROM:+0100
TZOFFSETTO:+0100
TZNAME:GMT +01:00
END:STANDARD
END:VTIMEZONE
BEGIN:VEVENT
UID:20260424T112901CEST-4158Azv4tV@horsealert.local
DTSTAMP:20260424T090401Z
CATEGORIES:Horse Alerts
DESCRIPTION:Christmas Parties At Carlisle Racecourse Handicap \(Jockey Club
  Grassroots Flat Sprint Series Qualifier\)
DTSTART:20140827T150000
LOCATION:England
SUMMARY:Horse Racing:Christmas Parties At Carlisle Racecourse Handicap \(Jo
 ckey Club Grassroots Flat Sprint Series Qualifier\)
END:VEVENT
END:VCALENDAR
