BEGIN:VCALENDAR
VERSION:2.0
PRODID:-//horsealert.local//NONSGML kigkonsult.se iCalcreator 2.10.5//
CALSCALE:GREGORIAN
X-WR-TIMEZONE:Europe/Dublin
BEGIN:VTIMEZONE
TZID:Etc/GMT-1
BEGIN:STANDARD
DTSTART:20010101T000000
TZOFFSETFROM:+0100
TZOFFSETTO:+0100
TZNAME:GMT +01:00
END:STANDARD
END:VTIMEZONE
BEGIN:VEVENT
UID:20260424T165144CEST-146038cvG7@horsealert.local
DTSTAMP:20260424T140444Z
CATEGORIES:Horse Alerts
DESCRIPTION:Villa Strassbur Stakes
DTSTART:20140826T121500
LOCATION:France
SUMMARY:Horse Racing:Villa Strassbur Stakes
END:VEVENT
END:VCALENDAR
