BEGIN:VCALENDAR
VERSION:2.0
PRODID:-//horsealert.local//NONSGML kigkonsult.se iCalcreator 2.10.5//
CALSCALE:GREGORIAN
X-WR-TIMEZONE:Europe/Dublin
BEGIN:VTIMEZONE
TZID:Etc/GMT-1
BEGIN:STANDARD
DTSTART:20010101T000000
TZOFFSETFROM:+0100
TZOFFSETTO:+0100
TZNAME:GMT +01:00
END:STANDARD
END:VTIMEZONE
BEGIN:VEVENT
UID:20260424T080538CEST-8898VPINl1@horsealert.local
DTSTAMP:20260424T060438Z
CATEGORIES:Horse Alerts
DESCRIPTION:Tony And Eileen McNulty Selling Hurdle
DTSTART:20140825T144500
LOCATION:England
SUMMARY:Horse Racing:Tony And Eileen McNulty Selling Hurdle
END:VEVENT
END:VCALENDAR
