BEGIN:VCALENDAR
VERSION:2.0
PRODID:-//horsealert.local//NONSGML kigkonsult.se iCalcreator 2.10.5//
CALSCALE:GREGORIAN
X-WR-TIMEZONE:Europe/Dublin
BEGIN:VTIMEZONE
TZID:Etc/GMT-1
BEGIN:STANDARD
DTSTART:20010101T000000
TZOFFSETFROM:+0100
TZOFFSETTO:+0100
TZNAME:GMT +01:00
END:STANDARD
END:VTIMEZONE
BEGIN:VEVENT
UID:20260424T112904CEST-8735vVDkxC@horsealert.local
DTSTAMP:20260424T090404Z
CATEGORIES:Horse Alerts
DESCRIPTION:Equine Products UK Transvite Blaydon Race \(Nursery\) \(Str\)
DTSTART:20140825T152500
LOCATION:England
SUMMARY:Horse Racing:Equine Products UK Transvite Blaydon Race \(Nursery\) 
 \(Str\)
END:VEVENT
END:VCALENDAR
