BEGIN:VCALENDAR
VERSION:2.0
PRODID:-//horsealert.local//NONSGML kigkonsult.se iCalcreator 2.10.5//
CALSCALE:GREGORIAN
X-WR-TIMEZONE:Europe/Dublin
BEGIN:VTIMEZONE
TZID:Etc/GMT-1
BEGIN:STANDARD
DTSTART:20010101T000000
TZOFFSETFROM:+0100
TZOFFSETTO:+0100
TZNAME:GMT +01:00
END:STANDARD
END:VTIMEZONE
BEGIN:VEVENT
UID:20260424T080539CEST-8726HbPlEa@horsealert.local
DTSTAMP:20260424T060439Z
CATEGORIES:Horse Alerts
DESCRIPTION:Investec Amateur Derby \(In Celebration Of Caroline Beaumont\) 
 \(Gentleman Amateur Riders\' Handicap\)
DTSTART:20140825T162000
LOCATION:England
SUMMARY:Horse Racing:Investec Amateur Derby \(In Celebration Of Caroline Be
 aumont\) \(Gentleman Amateur Riders\' Handicap\)
END:VEVENT
END:VCALENDAR
