BEGIN:VCALENDAR
VERSION:2.0
PRODID:-//horsealert.local//NONSGML kigkonsult.se iCalcreator 2.10.5//
CALSCALE:GREGORIAN
X-WR-TIMEZONE:Europe/Dublin
BEGIN:VTIMEZONE
TZID:Etc/GMT-1
BEGIN:STANDARD
DTSTART:20010101T000000
TZOFFSETFROM:+0100
TZOFFSETTO:+0100
TZNAME:GMT +01:00
END:STANDARD
END:VTIMEZONE
BEGIN:VEVENT
UID:20260424T081005CEST-8597JRUfOF@horsealert.local
DTSTAMP:20260424T060405Z
CATEGORIES:Horse Alerts
DESCRIPTION:Kelly Foley & Co. In Association With Lloyd Fitzpatrick Account
 ants Maiden Hurdle
DTSTART:20140823T134500
LOCATION:Eire
SUMMARY:Horse Racing:Kelly Foley & Co. In Association With Lloyd Fitzpatric
 k Accountants Maiden Hurdle
END:VEVENT
END:VCALENDAR
