BEGIN:VCALENDAR
VERSION:2.0
PRODID:-//horsealert.local//NONSGML kigkonsult.se iCalcreator 2.10.5//
CALSCALE:GREGORIAN
X-WR-TIMEZONE:Europe/Dublin
BEGIN:VTIMEZONE
TZID:Etc/GMT-1
BEGIN:STANDARD
DTSTART:20010101T000000
TZOFFSETFROM:+0100
TZOFFSETTO:+0100
TZNAME:GMT +01:00
END:STANDARD
END:VTIMEZONE
BEGIN:VEVENT
UID:20260424T112859CEST-6856gG5BRn@horsealert.local
DTSTAMP:20260424T090459Z
CATEGORIES:Horse Alerts
DESCRIPTION:Irish Champions Weekend 13th & 14th September Handicap \(60-90\
 )
DTSTART:20140823T172500
LOCATION:Eire
SUMMARY:Horse Racing:Irish Champions Weekend 13th & 14th September Handicap
  \(60-90\)
END:VEVENT
END:VCALENDAR
