BEGIN:VCALENDAR
VERSION:2.0
PRODID:-//horsealert.local//NONSGML kigkonsult.se iCalcreator 2.10.5//
CALSCALE:GREGORIAN
X-WR-TIMEZONE:Europe/Dublin
BEGIN:VTIMEZONE
TZID:Etc/GMT-1
BEGIN:STANDARD
DTSTART:20010101T000000
TZOFFSETFROM:+0100
TZOFFSETTO:+0100
TZNAME:GMT +01:00
END:STANDARD
END:VTIMEZONE
BEGIN:VEVENT
UID:20260424T095117CEST-9083ft9DFC@horsealert.local
DTSTAMP:20260424T070417Z
CATEGORIES:Horse Alerts
DESCRIPTION:Download The RacingUK iPad App Straight-Mile Championship Handi
 cap \(Qualifier\)
DTSTART:20140823T190000
LOCATION:England
SUMMARY:Horse Racing:Download The RacingUK iPad App Straight-Mile Champions
 hip Handicap \(Qualifier\)
END:VEVENT
END:VCALENDAR
