BEGIN:VCALENDAR
VERSION:2.0
PRODID:-//horsealert.local//NONSGML kigkonsult.se iCalcreator 2.10.5//
CALSCALE:GREGORIAN
X-WR-TIMEZONE:Europe/Dublin
BEGIN:VTIMEZONE
TZID:Etc/GMT-1
BEGIN:STANDARD
DTSTART:20010101T000000
TZOFFSETFROM:+0100
TZOFFSETTO:+0100
TZNAME:GMT +01:00
END:STANDARD
END:VTIMEZONE
BEGIN:VEVENT
UID:20260424T095055CEST-6025fHxawR@horsealert.local
DTSTAMP:20260424T070455Z
CATEGORIES:Horse Alerts
DESCRIPTION:Owens McCarthy Claims Specialists Kingdom Gold Cup Fillies Hand
 icap
DTSTART:20140821T181000
LOCATION:Eire
SUMMARY:Horse Racing:Owens McCarthy Claims Specialists Kingdom Gold Cup Fil
 lies Handicap
END:VEVENT
END:VCALENDAR
