BEGIN:VCALENDAR
VERSION:2.0
PRODID:-//horsealert.local//NONSGML kigkonsult.se iCalcreator 2.10.5//
CALSCALE:GREGORIAN
X-WR-TIMEZONE:Europe/Dublin
BEGIN:VTIMEZONE
TZID:Etc/GMT-1
BEGIN:STANDARD
DTSTART:20010101T000000
TZOFFSETFROM:+0100
TZOFFSETTO:+0100
TZNAME:GMT +01:00
END:STANDARD
END:VTIMEZONE
BEGIN:VEVENT
UID:20260424T080530CEST-1357LODjbT@horsealert.local
DTSTAMP:20260424T060430Z
CATEGORIES:Horse Alerts
DESCRIPTION:Mark Geobey\'s 50th Birthday 24th August Conditional Jockeys\' 
 Handicap Hurdle
DTSTART:20140819T201000
LOCATION:England
SUMMARY:Horse Racing:Mark Geobey\'s 50th Birthday 24th August Conditional J
 ockeys\' Handicap Hurdle
END:VEVENT
END:VCALENDAR
