BEGIN:VCALENDAR
VERSION:2.0
PRODID:-//horsealert.local//NONSGML kigkonsult.se iCalcreator 2.10.5//
CALSCALE:GREGORIAN
X-WR-TIMEZONE:Europe/Dublin
BEGIN:VTIMEZONE
TZID:Etc/GMT-1
BEGIN:STANDARD
DTSTART:20010101T000000
TZOFFSETFROM:+0100
TZOFFSETTO:+0100
TZNAME:GMT +01:00
END:STANDARD
END:VTIMEZONE
BEGIN:VEVENT
UID:20260424T095128CEST-0534sb6CuA@horsealert.local
DTSTAMP:20260424T070428Z
CATEGORIES:Horse Alerts
DESCRIPTION:Sligo GAA 19th August Race Day At Sligo Handicap \(47-65\) \(Di
 v 2\)
DTSTART:20140819T175000
LOCATION:Eire
SUMMARY:Horse Racing:Sligo GAA 19th August Race Day At Sligo Handicap \(47-
 65\) \(Div 2\)
END:VEVENT
END:VCALENDAR
