BEGIN:VCALENDAR
VERSION:2.0
PRODID:-//horsealert.local//NONSGML kigkonsult.se iCalcreator 2.10.5//
CALSCALE:GREGORIAN
X-WR-TIMEZONE:Europe/Dublin
BEGIN:VTIMEZONE
TZID:Etc/GMT-1
BEGIN:STANDARD
DTSTART:20010101T000000
TZOFFSETFROM:+0100
TZOFFSETTO:+0100
TZNAME:GMT +01:00
END:STANDARD
END:VTIMEZONE
BEGIN:VEVENT
UID:20260424T095114CEST-3607DGSVdC@horsealert.local
DTSTAMP:20260424T070414Z
CATEGORIES:Horse Alerts
DESCRIPTION:Murray Ambulance Service Mares Handicap Hurdle \(80-109\)
DTSTART:20140818T194000
LOCATION:Eire
SUMMARY:Horse Racing:Murray Ambulance Service Mares Handicap Hurdle \(80-10
 9\)
END:VEVENT
END:VCALENDAR
