BEGIN:VCALENDAR
VERSION:2.0
PRODID:-//horsealert.local//NONSGML kigkonsult.se iCalcreator 2.10.5//
CALSCALE:GREGORIAN
X-WR-TIMEZONE:Europe/Dublin
BEGIN:VTIMEZONE
TZID:Etc/GMT-1
BEGIN:STANDARD
DTSTART:20010101T000000
TZOFFSETFROM:+0100
TZOFFSETTO:+0100
TZNAME:GMT +01:00
END:STANDARD
END:VTIMEZONE
BEGIN:VEVENT
UID:20260424T131002CEST-4377ChEX1O@horsealert.local
DTSTAMP:20260424T110402Z
CATEGORIES:Horse Alerts
DESCRIPTION:Warhorse Fireworks At Royal Windsor Racecourse Selling Stakes
DTSTART:20140818T183000
LOCATION:England
SUMMARY:Horse Racing:Warhorse Fireworks At Royal Windsor Racecourse Selling
  Stakes
END:VEVENT
END:VCALENDAR
