BEGIN:VCALENDAR
VERSION:2.0
PRODID:-//horsealert.local//NONSGML kigkonsult.se iCalcreator 2.10.5//
CALSCALE:GREGORIAN
X-WR-TIMEZONE:Europe/Dublin
BEGIN:VTIMEZONE
TZID:Etc/GMT-1
BEGIN:STANDARD
DTSTART:20010101T000000
TZOFFSETFROM:+0100
TZOFFSETTO:+0100
TZNAME:GMT +01:00
END:STANDARD
END:VTIMEZONE
BEGIN:VEVENT
UID:20260424T095116CEST-73057eOs8V@horsealert.local
DTSTAMP:20260424T070416Z
CATEGORIES:Horse Alerts
DESCRIPTION:Mary Bennett Birthday Handicap Hurdle
DTSTART:20140817T160500
LOCATION:England
SUMMARY:Horse Racing:Mary Bennett Birthday Handicap Hurdle
END:VEVENT
END:VCALENDAR
