BEGIN:VCALENDAR
VERSION:2.0
PRODID:-//horsealert.local//NONSGML kigkonsult.se iCalcreator 2.10.5//
CALSCALE:GREGORIAN
X-WR-TIMEZONE:Europe/Dublin
BEGIN:VTIMEZONE
TZID:Etc/GMT-1
BEGIN:STANDARD
DTSTART:20010101T000000
TZOFFSETFROM:+0100
TZOFFSETTO:+0100
TZNAME:GMT +01:00
END:STANDARD
END:VTIMEZONE
BEGIN:VEVENT
UID:20260424T080424CEST-7915ERMeuO@horsealert.local
DTSTAMP:20260424T060424Z
CATEGORIES:Horse Alerts
DESCRIPTION:Static Security Services \'Hands And Heels\' Selling Hurdle \(C
 onditional Jockeys And Amateur Riders\)
DTSTART:20140816T174000
LOCATION:England
SUMMARY:Horse Racing:Static Security Services \'Hands And Heels\' Selling H
 urdle \(Conditional Jockeys And Amateur Riders\)
END:VEVENT
END:VCALENDAR
