BEGIN:VCALENDAR
VERSION:2.0
PRODID:-//horsealert.local//NONSGML kigkonsult.se iCalcreator 2.10.5//
CALSCALE:GREGORIAN
X-WR-TIMEZONE:Europe/Dublin
BEGIN:VTIMEZONE
TZID:Etc/GMT-1
BEGIN:STANDARD
DTSTART:20010101T000000
TZOFFSETFROM:+0100
TZOFFSETTO:+0100
TZNAME:GMT +01:00
END:STANDARD
END:VTIMEZONE
BEGIN:VEVENT
UID:20260424T080421CEST-9538POH5DH@horsealert.local
DTSTAMP:20260424T060421Z
CATEGORIES:Horse Alerts
DESCRIPTION:Blue Moon Still Rising Rated Race
DTSTART:20140816T182500
LOCATION:Eire
SUMMARY:Horse Racing:Blue Moon Still Rising Rated Race
END:VEVENT
END:VCALENDAR
