BEGIN:VCALENDAR
VERSION:2.0
PRODID:-//horsealert.local//NONSGML kigkonsult.se iCalcreator 2.10.5//
CALSCALE:GREGORIAN
X-WR-TIMEZONE:Europe/Dublin
BEGIN:VTIMEZONE
TZID:Etc/GMT-1
BEGIN:STANDARD
DTSTART:20010101T000000
TZOFFSETFROM:+0100
TZOFFSETTO:+0100
TZNAME:GMT +01:00
END:STANDARD
END:VTIMEZONE
BEGIN:VEVENT
UID:20260424T080424CEST-6009Kz5Bg6@horsealert.local
DTSTAMP:20260424T060424Z
CATEGORIES:Horse Alerts
DESCRIPTION:Barry Silkman Double O Seven Grey Horse Handicap \(For Grey Hor
 ses Only\)
DTSTART:20140816T142000
LOCATION:England
SUMMARY:Horse Racing:Barry Silkman Double O Seven Grey Horse Handicap \(For
  Grey Horses Only\)
END:VEVENT
END:VCALENDAR
