BEGIN:VCALENDAR
VERSION:2.0
PRODID:-//horsealert.local//NONSGML kigkonsult.se iCalcreator 2.10.5//
CALSCALE:GREGORIAN
X-WR-TIMEZONE:Europe/Dublin
BEGIN:VTIMEZONE
TZID:Etc/GMT-1
BEGIN:STANDARD
DTSTART:20010101T000000
TZOFFSETFROM:+0100
TZOFFSETTO:+0100
TZNAME:GMT +01:00
END:STANDARD
END:VTIMEZONE
BEGIN:VEVENT
UID:20260424T080416CEST-1307cCHpRP@horsealert.local
DTSTAMP:20260424T060416Z
CATEGORIES:Horse Alerts
DESCRIPTION:Play Today\'s 2m Scoop6 EBF Maiden Fillies\' Stakes
DTSTART:20140816T130000
LOCATION:England
SUMMARY:Horse Racing:Play Today\'s 2m Scoop6 EBF Maiden Fillies\' Stakes
END:VEVENT
END:VCALENDAR
