BEGIN:VCALENDAR
VERSION:2.0
PRODID:-//horsealert.local//NONSGML kigkonsult.se iCalcreator 2.10.5//
CALSCALE:GREGORIAN
X-WR-TIMEZONE:Europe/Dublin
BEGIN:VTIMEZONE
TZID:Etc/GMT-1
BEGIN:STANDARD
DTSTART:20010101T000000
TZOFFSETFROM:+0100
TZOFFSETTO:+0100
TZNAME:GMT +01:00
END:STANDARD
END:VTIMEZONE
BEGIN:VEVENT
UID:20260424T125327CEST-9200zI9Pmg@horsealert.local
DTSTAMP:20260424T100427Z
CATEGORIES:Horse Alerts
DESCRIPTION:Follow The Scoop6 At totepoolliveinfo.com Handicap
DTSTART:20140816T143000
LOCATION:England
SUMMARY:Horse Racing:Follow The Scoop6 At totepoolliveinfo.com Handicap
END:VEVENT
END:VCALENDAR
