BEGIN:VCALENDAR
VERSION:2.0
PRODID:-//horsealert.local//NONSGML kigkonsult.se iCalcreator 2.10.5//
CALSCALE:GREGORIAN
X-WR-TIMEZONE:Europe/Dublin
BEGIN:VTIMEZONE
TZID:Etc/GMT-1
BEGIN:STANDARD
DTSTART:20010101T000000
TZOFFSETFROM:+0100
TZOFFSETTO:+0100
TZNAME:GMT +01:00
END:STANDARD
END:VTIMEZONE
BEGIN:VEVENT
UID:20260424T095143CEST-0989kVOM7H@horsealert.local
DTSTAMP:20260424T070443Z
CATEGORIES:Horse Alerts
DESCRIPTION:Bulmers Original Summer Music Night Apprentice Handicap
DTSTART:20140814T202000
LOCATION:Eire
SUMMARY:Horse Racing:Bulmers Original Summer Music Night Apprentice Handica
 p
END:VEVENT
END:VCALENDAR
