BEGIN:VCALENDAR
VERSION:2.0
PRODID:-//horsealert.local//NONSGML kigkonsult.se iCalcreator 2.10.5//
CALSCALE:GREGORIAN
X-WR-TIMEZONE:Europe/Dublin
BEGIN:VTIMEZONE
TZID:Etc/GMT-1
BEGIN:STANDARD
DTSTART:20010101T000000
TZOFFSETFROM:+0100
TZOFFSETTO:+0100
TZNAME:GMT +01:00
END:STANDARD
END:VTIMEZONE
BEGIN:VEVENT
UID:20260424T095139CEST-9230hdjrLu@horsealert.local
DTSTAMP:20260424T070439Z
CATEGORIES:Horse Alerts
DESCRIPTION:Winner Van Hire 0800 022 4247 Standard Open NH Flat Race
DTSTART:20140814T201000
LOCATION:England
SUMMARY:Horse Racing:Winner Van Hire 0800 022 4247 Standard Open NH Flat Ra
 ce
END:VEVENT
END:VCALENDAR
