BEGIN:VCALENDAR
VERSION:2.0
PRODID:-//horsealert.local//NONSGML kigkonsult.se iCalcreator 2.10.5//
CALSCALE:GREGORIAN
X-WR-TIMEZONE:Europe/Dublin
BEGIN:VTIMEZONE
TZID:Etc/GMT-1
BEGIN:STANDARD
DTSTART:20010101T000000
TZOFFSETFROM:+0100
TZOFFSETTO:+0100
TZNAME:GMT +01:00
END:STANDARD
END:VTIMEZONE
BEGIN:VEVENT
UID:20260424T080525CEST-5259SkBRTi@horsealert.local
DTSTAMP:20260424T060425Z
CATEGORIES:Horse Alerts
DESCRIPTION:Follow AtTheRaces On Twitter Graduate Juvenile Maiden Hurdle
DTSTART:20140813T141000
LOCATION:England
SUMMARY:Horse Racing:Follow AtTheRaces On Twitter Graduate Juvenile Maiden 
 Hurdle
END:VEVENT
END:VCALENDAR
