BEGIN:VCALENDAR
VERSION:2.0
PRODID:-//horsealert.local//NONSGML kigkonsult.se iCalcreator 2.10.5//
CALSCALE:GREGORIAN
X-WR-TIMEZONE:Europe/Dublin
BEGIN:VTIMEZONE
TZID:Etc/GMT-1
BEGIN:STANDARD
DTSTART:20010101T000000
TZOFFSETFROM:+0100
TZOFFSETTO:+0100
TZNAME:GMT +01:00
END:STANDARD
END:VTIMEZONE
BEGIN:VEVENT
UID:20260424T080535CEST-54597WuFlu@horsealert.local
DTSTAMP:20260424T060435Z
CATEGORIES:Horse Alerts
DESCRIPTION:L\'Hippodrome De Monterrico-Peru Handicap
DTSTART:20140810T162000
LOCATION:France
SUMMARY:Horse Racing:L\'Hippodrome De Monterrico-Peru Handicap
END:VEVENT
END:VCALENDAR
