BEGIN:VCALENDAR
VERSION:2.0
PRODID:-//horsealert.local//NONSGML kigkonsult.se iCalcreator 2.10.5//
CALSCALE:GREGORIAN
X-WR-TIMEZONE:Europe/Dublin
BEGIN:VTIMEZONE
TZID:Etc/GMT-1
BEGIN:STANDARD
DTSTART:20010101T000000
TZOFFSETFROM:+0100
TZOFFSETTO:+0100
TZNAME:GMT +01:00
END:STANDARD
END:VTIMEZONE
BEGIN:VEVENT
UID:20260424T131011CEST-3884C52Nf4@horsealert.local
DTSTAMP:20260424T110411Z
CATEGORIES:Horse Alerts
DESCRIPTION:Greyhound Fillies\' Selling Stakes
DTSTART:20140808T142000
LOCATION:England
SUMMARY:Horse Racing:Greyhound Fillies\' Selling Stakes
END:VEVENT
END:VCALENDAR
